BEGIN:VCALENDAR
VERSION:2.0
PRODID:-//85.13.147.204//NONSGML kigkonsult.se iCalcreator 2.20//
CALSCALE:GREGORIAN
METHOD:PUBLISH
X-WR-TIMEZONE:UTC
BEGIN:VEVENT
UID:event97@..:: Viertelpoet ::: rockig-frech lyrisch-liedhaft ::..
DTSTAMP:20260425T235918Z
CATEGORIES:Konzert
DESCRIPTION:Stadtvierteltour INKLUSIVE\nKategorie: Konzert\nICS-Link: https
 ://viertelpoet.de/index.php?option=com_jem&view=event&id=97:stadtviertelto
 ur-inklusive\n
DTSTART:20151114T143000Z
DTEND:20151114T143000Z
LOCATION:Objekt 5 \,Seebener Str. 5\,06114 Halle\,Germany
SUMMARY:Stadtvierteltour INKLUSIVE
URL:https://viertelpoet.de/index.php?option=com_jem&view=event&id=97:stadtv
 ierteltour-inklusive
END:VEVENT
BEGIN:VEVENT
UID:event129@..:: Viertelpoet ::: rockig-frech lyrisch-liedhaft ::..
DTSTAMP:20260425T235918Z
CATEGORIES:Konzert
DESCRIPTION:Viertelpoet im Objekt 5\nKategorie: Konzert\nICS-Link: https://
 viertelpoet.de/index.php?option=com_jem&view=event&id=129:viertelpoet-im-o
 bjekt-5\n
DTSTART:20240613T200000Z
DTEND:20240613T230000Z
LOCATION:Objekt 5 \,Seebener Str. 5\,06114 Halle\,Germany
SUMMARY:Viertelpoet im Objekt 5
URL:https://viertelpoet.de/index.php?option=com_jem&view=event&id=129:viert
 elpoet-im-objekt-5
END:VEVENT
END:VCALENDAR
