BEGIN:VCALENDAR
VERSION:2.0
PRODID:-//85.13.147.204//NONSGML kigkonsult.se iCalcreator 2.20//
CALSCALE:GREGORIAN
METHOD:PUBLISH
X-WR-TIMEZONE:UTC
BEGIN:VEVENT
UID:event61@..:: Viertelpoet ::: rockig-frech lyrisch-liedhaft ::..
DTSTAMP:20260425T222451Z
CATEGORIES:Konzert
DESCRIPTION:Viertelpoet im Kafe Kaju\nKategorie: Konzert\nICS-Link: https:/
 /viertelpoet.de/index.php?option=com_jem&view=event&id=61:viertelpoet-im-k
 afe-kaju\n
DTSTART:20130321T190000Z
DTEND:20130321T190000Z
LOCATION:kafé kaju\,Große Steinstraße 25\,06108 Halle\,Germany
SUMMARY:Viertelpoet im Kafe Kaju
URL:https://viertelpoet.de/index.php?option=com_jem&view=event&id=61:vierte
 lpoet-im-kafe-kaju
END:VEVENT
BEGIN:VEVENT
UID:event92@..:: Viertelpoet ::: rockig-frech lyrisch-liedhaft ::..
DTSTAMP:20260425T222451Z
CATEGORIES:Konzert
DESCRIPTION:Viertelpoet im Kafe Kaju\nKategorie: Konzert\nICS-Link: https:/
 /viertelpoet.de/index.php?option=com_jem&view=event&id=92:viertelpoet-im-k
 afe-kaju\n
DTSTART:20150605T193000Z
DTEND:20150605T193000Z
LOCATION:kafé kaju\,Große Steinstraße 25\,06108 Halle\,Germany
SUMMARY:Viertelpoet im Kafe Kaju
URL:https://viertelpoet.de/index.php?option=com_jem&view=event&id=92:vierte
 lpoet-im-kafe-kaju
END:VEVENT
BEGIN:VEVENT
UID:event108@..:: Viertelpoet ::: rockig-frech lyrisch-liedhaft ::..
DTSTAMP:20260425T222451Z
CATEGORIES:Konzert
DESCRIPTION:Viertelpoet im kafé kaju\nKategorie: Konzert\nICS-Link: https:/
 /viertelpoet.de/index.php?option=com_jem&view=event&id=108:viertelpoet-im-
 kafe-kaju\n
DTSTART:20170908T193000Z
DTEND:20170908T193000Z
LOCATION:kafé kaju\,Große Steinstraße 25\,06108 Halle\,Germany
SUMMARY:Viertelpoet im kafé kaju
URL:https://viertelpoet.de/index.php?option=com_jem&view=event&id=108:viert
 elpoet-im-kafe-kaju
END:VEVENT
END:VCALENDAR
