BEGIN:VCALENDAR
VERSION:2.0
PRODID:-//85.13.147.204//NONSGML kigkonsult.se iCalcreator 2.20//
CALSCALE:GREGORIAN
METHOD:PUBLISH
X-WR-TIMEZONE:UTC
BEGIN:VEVENT
UID:event116@..:: Viertelpoet ::: rockig-frech lyrisch-liedhaft ::..
DTSTAMP:20260420T021539Z
CATEGORIES:Konzert
DESCRIPTION:Viertelpoet  „Live im Lözius“\nKategorie: Konzert\nICS-Link: ht
 tps://viertelpoet.de/index.php?option=com_jem&view=event&id=116:viertelpoe
 t-live-im-loezius\n
DTSTART:20180525T200000Z
DTEND:20180525T200000Z
LOCATION:Brasserie Lözius\,Am Steintor 9\,06112 Halle
SUMMARY:Viertelpoet  „Live im Lözius“
URL:https://viertelpoet.de/index.php?option=com_jem&view=event&id=116:viert
 elpoet-live-im-loezius
END:VEVENT
END:VCALENDAR
